BEGIN:VCALENDAR
VERSION:2.0
PRODID:-//BIV - ECPv6.15.20//NONSGML v1.0//EN
CALSCALE:GREGORIAN
METHOD:PUBLISH
X-WR-CALNAME:BIV
X-ORIGINAL-URL:https://biv-west.de
X-WR-CALDESC:Veranstaltungen für BIV
REFRESH-INTERVAL;VALUE=DURATION:PT1H
X-Robots-Tag:noindex
X-PUBLISHED-TTL:PT1H
BEGIN:VTIMEZONE
TZID:Europe/Berlin
BEGIN:DAYLIGHT
TZOFFSETFROM:+0100
TZOFFSETTO:+0200
TZNAME:CEST
DTSTART:20250330T010000
END:DAYLIGHT
BEGIN:STANDARD
TZOFFSETFROM:+0200
TZOFFSETTO:+0100
TZNAME:CET
DTSTART:20251026T010000
END:STANDARD
BEGIN:DAYLIGHT
TZOFFSETFROM:+0100
TZOFFSETTO:+0200
TZNAME:CEST
DTSTART:20260329T010000
END:DAYLIGHT
BEGIN:STANDARD
TZOFFSETFROM:+0200
TZOFFSETTO:+0100
TZNAME:CET
DTSTART:20261025T010000
END:STANDARD
BEGIN:DAYLIGHT
TZOFFSETFROM:+0100
TZOFFSETTO:+0200
TZNAME:CEST
DTSTART:20270328T010000
END:DAYLIGHT
BEGIN:STANDARD
TZOFFSETFROM:+0200
TZOFFSETTO:+0100
TZNAME:CET
DTSTART:20271031T010000
END:STANDARD
END:VTIMEZONE
BEGIN:VEVENT
DTSTART;TZID=Europe/Berlin:20261102T090000
DTEND;TZID=Europe/Berlin:20261102T160000
DTSTAMP:20260423T105013
CREATED:20260204T112627Z
LAST-MODIFIED:20260204T112627Z
UID:6119-1793610000-1793635200@biv-west.de
SUMMARY:Tatort Kasse – Das Diebstahlseminar
DESCRIPTION:Vertrauen ist gut – Kontrolle ist besser.\nIn diesem spannenden Seminar erfährst du\, wie du Diebstähle im Betrieb erkennst\, vorbeugst und im Ernstfall richtig reagierst. Zwei erfahrene Profis zeigen dir\, welche Tricks heute genutzt werden\, wie du Manipulationen aufdeckst und welche rechtlichen Schritte erlaubt sind. \nDu lernst\, wie du: \n\ntypische Manipulationsmöglichkeiten an der Kasse erkennst\,\nbetrügerisches Verhalten von Mitarbeitenden oder Kund*innen richtig einschätzt\,\nVideoüberwachung und Taschenkontrollen rechtssicher einsetzt\,\nGespräche professionell und ohne Eskalation führst.\n\nNeben vielen Praxisbeispielen bekommst du klare Handlungsempfehlungen\, um dein Team zu sensibilisieren und deine Abläufe sicher zu gestalten.\nSo schützt du dein Unternehmen\, stärkst Vertrauen und sorgst für klare Strukturen im Umgang mit Geld und Verantwortung. \nEin Seminar\, das Wissen\, Sicherheit und Verantwortung verbindet – damit du Risiken früh erkennst und souverän handeln kannst. \nReferenten: Markus Theißen\, RA Henning Funke \n-> zur Buchungsanfrage
URL:https://biv-west.de/event/tatort-kasse-das-diebstahlseminar-2/
LOCATION:Bäckerinnungsverband WEST (Düsseldorf)\, Stromstraße 41\, Düsseldorf\, NRW\, 40221\, Germany
CATEGORIES:Recht - Das sind Ihre Rechte als Arbeitgeber,Standort Düsseldorf
ATTACH;FMTTYPE=image/jpeg:https://biv-west.de/wp-content/uploads/2025/01/Sem_2025_Tatort_Kasse.jpg
END:VEVENT
END:VCALENDAR