BEGIN:VCALENDAR
VERSION:2.0
PRODID:-//BIV - ECPv6.15.20//NONSGML v1.0//EN
CALSCALE:GREGORIAN
METHOD:PUBLISH
X-ORIGINAL-URL:https://biv-west.de
X-WR-CALDESC:Veranstaltungen für BIV
REFRESH-INTERVAL;VALUE=DURATION:PT1H
X-Robots-Tag:noindex
X-PUBLISHED-TTL:PT1H
BEGIN:VTIMEZONE
TZID:UTC
BEGIN:STANDARD
TZOFFSETFROM:+0000
TZOFFSETTO:+0000
TZNAME:UTC
DTSTART:20250101T000000
END:STANDARD
END:VTIMEZONE
BEGIN:VTIMEZONE
TZID:Europe/Berlin
BEGIN:DAYLIGHT
TZOFFSETFROM:+0100
TZOFFSETTO:+0200
TZNAME:CEST
DTSTART:20250330T010000
END:DAYLIGHT
BEGIN:STANDARD
TZOFFSETFROM:+0200
TZOFFSETTO:+0100
TZNAME:CET
DTSTART:20251026T010000
END:STANDARD
BEGIN:DAYLIGHT
TZOFFSETFROM:+0100
TZOFFSETTO:+0200
TZNAME:CEST
DTSTART:20260329T010000
END:DAYLIGHT
BEGIN:STANDARD
TZOFFSETFROM:+0200
TZOFFSETTO:+0100
TZNAME:CET
DTSTART:20261025T010000
END:STANDARD
BEGIN:DAYLIGHT
TZOFFSETFROM:+0100
TZOFFSETTO:+0200
TZNAME:CEST
DTSTART:20270328T010000
END:DAYLIGHT
BEGIN:STANDARD
TZOFFSETFROM:+0200
TZOFFSETTO:+0100
TZNAME:CET
DTSTART:20271031T010000
END:STANDARD
END:VTIMEZONE
BEGIN:VEVENT
DTSTART;TZID=UTC:20260302T091500
DTEND;TZID=UTC:20260302T160000
DTSTAMP:20260423T123117
CREATED:20231219T134338Z
LAST-MODIFIED:20260204T081139Z
UID:410-1772442900-1772467200@biv-west.de
SUMMARY:Hochzeitstorten – Trends 2026
DESCRIPTION:Versüßen Sie Kundinnen und Kunden ihren schönsten Tag\nInhalt: \nBesondere Hochzeitstorten sind das Aushängeschild von Konditoreien und Bäckereien. Dieses Seminar bietet Ihnen eine gute Möglichkeit in die aktuellen Trends dieser Welt einzusteigen\, ganz ohne Fondant oder aufwendiges modellieren. \nLernen Sie verschiedene Einstreichtechniken\, Farbverläufe zu gestalten\, moderne Cremedekore und das Arbeiten mit frischen Blumen und essbaren Elementen\, sowie den kunstvollen Aufbau eines Art-Cakes. \nAm Ende des Seminars nimmt jede Teilnehmerin und jeder Teilnehmer seine eigene Torte mit nach Hause. \nReferentin: \nJulia Moser\, die passionierte Inhaberin von Chocolia\, wird Sie durch diesen kreativen Tag führen. Als erfahrene Konditormeisterin und Chocolatière ist sie für ihre außergewöhnliche Handwerkskunst und ihre Liebe zum Detail bekannt. Mit ihrem täglichen Anspruch an höchste Qualität teilt sie wertvolles Wissen und praxiserprobte Techniken\, die Sie sofort in Ihrer eigenen Produktion umsetzen können. \n-> zur Buchungsanfrage
URL:https://biv-west.de/event/hochzeitstorten-trends-2024/
LOCATION:Erste Deutsche Bäckerfachschule (Standort Olpe)\, Zur Bäckerschule 5\, Olpe / Biggesee\, NRW\, 57462\, Deutschland
CATEGORIES:Produktion - Seminare rund ums Backen,Standort Olpe
ATTACH;FMTTYPE=image/jpeg:https://biv-west.de/wp-content/uploads/2023/12/Sem_2025_Hochzeitstorten.jpg
END:VEVENT
BEGIN:VEVENT
DTSTART;TZID=UTC:20260309T091500
DTEND;TZID=UTC:20260309T160000
DTSTAMP:20260423T123117
CREATED:20231219T140137Z
LAST-MODIFIED:20260204T085325Z
UID:439-1773047700-1773072000@biv-west.de
SUMMARY:Marzipan & Fondant
DESCRIPTION:Rationell und modern\nInhalt: \nDie klassische Marzipan-Figur wurde in den letzten Jahren in neuem Gewand wiederentdeckt. \nLernen Sie Modellieren von der Basis an für rationelle und gleichmäßige\, niedliche Figuren\, sowie die moderne Umsetzung verschiedener Dekore und das Eindecken von Torten mit Fondant. Das Arbeiten mit Airbrush und das Nutzen von modernen Formen für aktuelles Cake-Design ist ebenfalls Bestandteil dieses Lehrganges. \nDieser Kurs ist eine gute Ergänzung zum Seminar: „Hochzeitstorten Trends 2026“ \nReferentin: \nJulia Moser\, die passionierte Inhaberin von Chocolia\, wird Sie durch diesen kreativen Tag führen. Als erfahrene Konditormeisterin und Chocolatière ist sie für ihre außergewöhnliche Handwerkskunst und ihre Liebe zum Detail bekannt. Mit ihrem täglichen Anspruch an höchste Qualität teilt sie wertvolles Wissen und praxiserprobte Techniken\, die Sie sofort in Ihrer eigenen Produktion umsetzen können. \nNach diesem Seminartag nehmen Sie nicht nur eine Mappe mit erprobten Rezepten mit nach Hause\, sondern auch die Inspiration und das technische Know-how\, um Ihr eigenes Schokoladen- und Pralinensortiment kreativ und erfolgreich zu gestalten. \n-> zur Buchungsanfrage
URL:https://biv-west.de/event/marzipan-fondant/
LOCATION:Erste Deutsche Bäckerfachschule (Standort Olpe)\, Zur Bäckerschule 5\, Olpe / Biggesee\, NRW\, 57462\, Deutschland
CATEGORIES:Produktion - Seminare rund ums Backen,Standort Olpe
ATTACH;FMTTYPE=image/jpeg:https://biv-west.de/wp-content/uploads/2023/12/Sem_2025_Marzipan_Fondant.jpg
END:VEVENT
BEGIN:VEVENT
DTSTART;TZID=Europe/Berlin:20260311T090000
DTEND;TZID=Europe/Berlin:20260311T160000
DTSTAMP:20260423T123117
CREATED:20260204T081647Z
LAST-MODIFIED:20260204T081647Z
UID:6081-1773219600-1773244800@biv-west.de
SUMMARY:Feingebäck: Teegebäck – Klassik trifft auf moderne Kreationen
DESCRIPTION:Zart\, edel und unglaublich vielseitig – entdecken Sie die hohe Kunst des Teegebäcks in einem exklusiven Seminar mit Konditormeisterin Emily Gorden. \nIn diesem Kurs tauchen Sie ein in die Welt feinster Gebäcke\, die jeden Anlass veredeln. \nErfahren Sie\, wie Sie mit klassischen Rezepten und innovativen Ideen wahre Meisterwerke kreieren\, die auf der Zunge zergehen. \nKursinhalt: \nOb für den anspruchsvollen Verkauf in Ihrer Konditorei\, als Highlight auf einem festlichen Buffet oder als liebevoll gestaltete Geschenkidee – dieses Seminar zeigt Ihnen die ganze Bandbreite und das kreative Potenzial von Teegebäck. \nWir kombinieren bewährte Klassiker mit modernen Einflüssen und zeigen Ihnen\, wie Sie Ihr Sortiment auf ein neues Level heben. Freuen Sie sich auf eine inspirierende Mischung aus Theorie und Praxis\, in der folgende Themen behandelt werden: \n\nTraditionelle Sorten im neuen Gewand: Perfektionieren Sie die Klassiker und lernen Sie\, wie kleine Abwandlungen für große Wirkung sorgen.\nRaffinierte Füllungen & Aromen: Kreieren Sie aufregende Geschmackserlebnisse mit hausgemachten Füllungen\, Cremes und Ganaches.\nModerne Kreationen & Trendgebäck: Von angesagten Cookies über softe Soft Bakes bis hin zu überraschenden Neukreationen – setzen Sie neue Impulse.\nVegane Alternativen: Erweitern Sie Ihr Angebot mit köstlichen veganen Gebäckvarianten\, die in Geschmack und Textur überzeugen.\nEffiziente Zubereitung & Variabilität: Alle Rezepte sind praxiserprobt\, lassen sich hervorragend vorbereiten und bieten Raum für Ihre eigene kreative Handschrift.\n\nIhre Seminarleiterin: \nEmily Gorden\, die passionierte Inhaberin von Emilys Chocolaterie\, wird Sie durch diesen kreativen Tag führen. Als erfahrene Konditormeisterin und Chocolatière ist sie für ihre außergewöhnliche Handwerkskunst und ihre Liebe zum Detail bekannt. Mit ihrer Expertise aus zahlreichen TV-Auftritten (u.a. „Das Große Backen“) und ihrem täglichen Anspruch an höchste Qualität in ihrer Chocolaterie\, teilt sie wertvolles Wissen und praxiserprobte Techniken\, die Sie sofort umsetzen können. \nNach diesem Seminartag nehmen Sie nicht nur eine Mappe mit erprobten und vielseitigen Rezepten mit nach Hause\, sondern auch die Inspiration und das technische Know-how\, um Ihr eigenes Teegebäck-Sortiment kreativ und erfolgreich zu gestalten. \n-> zur Buchungsanfrage
URL:https://biv-west.de/event/feingebaeck-teegebaeck-klassik-trifft-auf-moderne-kreationen/
LOCATION:Erste Deutsche Bäckerfachschule (Standort Olpe)\, Zur Bäckerschule 5\, Olpe / Biggesee\, NRW\, 57462\, Deutschland
CATEGORIES:Produktion - Seminare rund ums Backen,Standort Olpe
ATTACH;FMTTYPE=image/png:https://biv-west.de/wp-content/uploads/2026/02/Aufmacher_Seminar_2026_Teegebaeck.png
END:VEVENT
END:VCALENDAR