BEGIN:VCALENDAR
VERSION:2.0
PRODID:-//BIV - ECPv6.15.20//NONSGML v1.0//EN
CALSCALE:GREGORIAN
METHOD:PUBLISH
X-WR-CALNAME:BIV
X-ORIGINAL-URL:https://biv-west.de
X-WR-CALDESC:Veranstaltungen für BIV
REFRESH-INTERVAL;VALUE=DURATION:PT1H
X-Robots-Tag:noindex
X-PUBLISHED-TTL:PT1H
BEGIN:VTIMEZONE
TZID:UTC
BEGIN:STANDARD
TZOFFSETFROM:+0000
TZOFFSETTO:+0000
TZNAME:UTC
DTSTART:20250101T000000
END:STANDARD
END:VTIMEZONE
BEGIN:VEVENT
DTSTART;TZID=UTC:20260916T091500
DTEND;TZID=UTC:20260916T160000
DTSTAMP:20260425T121606
CREATED:20240326T124702Z
LAST-MODIFIED:20260204T105351Z
UID:3958-1789550100-1789574400@biv-west.de
SUMMARY:Snack-Workshop
DESCRIPTION:Kreative Snacks für den Verkaufserfolg\nSnacks sind heute ein wichtiger Bestandteil in modernen Bäckereien und gewinnen\nimmer mehr an Bedeutung. In diesem Seminar lernst du\, wie du dein Snack-Angebot\ngezielt erweiterst und professionalisierst. Neben bewährten Klassikern zeigen wir dir\ntrendbewusste\, neue Ideen\, die sich in der Praxis schnell und wirtschaftlich umsetzen\nlassen. So bleibst du flexibel und sprichst verschiedene Kundengruppen an \nDas erwartet Sie: \n\nSaisongemüse in neuem Stil.\nHausmannskost im und auf Brot\, so wie Mutter kocht.\nVegetarische Burger\, verfeinert mit Dipp und Pesto.\nVegetarische Waffeln in neuem Gewand mit Superfood und Saisongemüsen.\nZucchini Puffer im Brötchen mit pochiertem Ei.\nSaisonale Süßspeise.\nAusgarnieren\, anrichten und gestalten der Produkt\n\nAnrichten und Gestalten für jede Theke mit passenden Ideen für Ihre Kunden und Ihre Mitarbeiter! \nReferenten: Sven Müller\, Bleonita Sejdiu \n-> zur Buchungsanfrage
URL:https://biv-west.de/event/snack-seminar/
LOCATION:Erste Deutsche Bäckerfachschule (Standort Olpe)\, Zur Bäckerschule 5\, Olpe / Biggesee\, NRW\, 57462\, Deutschland
CATEGORIES:Produktion - Seminare rund ums Backen,Standort Olpe
ATTACH;FMTTYPE=image/jpeg:https://biv-west.de/wp-content/uploads/2024/03/Sem_2025_Snackseminar-2.jpg
END:VEVENT
END:VCALENDAR