BEGIN:VCALENDAR
VERSION:2.0
PRODID:-//BIV - ECPv6.15.20//NONSGML v1.0//EN
CALSCALE:GREGORIAN
METHOD:PUBLISH
X-WR-CALNAME:BIV
X-ORIGINAL-URL:https://biv-west.de
X-WR-CALDESC:Veranstaltungen für BIV
REFRESH-INTERVAL;VALUE=DURATION:PT1H
X-Robots-Tag:noindex
X-PUBLISHED-TTL:PT1H
BEGIN:VTIMEZONE
TZID:Europe/Berlin
BEGIN:DAYLIGHT
TZOFFSETFROM:+0100
TZOFFSETTO:+0200
TZNAME:CEST
DTSTART:20250330T010000
END:DAYLIGHT
BEGIN:STANDARD
TZOFFSETFROM:+0200
TZOFFSETTO:+0100
TZNAME:CET
DTSTART:20251026T010000
END:STANDARD
BEGIN:DAYLIGHT
TZOFFSETFROM:+0100
TZOFFSETTO:+0200
TZNAME:CEST
DTSTART:20260329T010000
END:DAYLIGHT
BEGIN:STANDARD
TZOFFSETFROM:+0200
TZOFFSETTO:+0100
TZNAME:CET
DTSTART:20261025T010000
END:STANDARD
BEGIN:DAYLIGHT
TZOFFSETFROM:+0100
TZOFFSETTO:+0200
TZNAME:CEST
DTSTART:20270328T010000
END:DAYLIGHT
BEGIN:STANDARD
TZOFFSETFROM:+0200
TZOFFSETTO:+0100
TZNAME:CET
DTSTART:20271031T010000
END:STANDARD
END:VTIMEZONE
BEGIN:VEVENT
DTSTART;TZID=Europe/Berlin:20260915T090000
DTEND;TZID=Europe/Berlin:20260915T160000
DTSTAMP:20260423T105029
CREATED:20260204T103951Z
LAST-MODIFIED:20260204T103951Z
UID:6111-1789462800-1789488000@biv-west.de
SUMMARY:Arbeitsrecht – Aktuelles Wissen für rechtssichere Entscheidungen
DESCRIPTION:Rechtliche Fragen gehören im Betriebsalltag einfach dazu – vom Vorstellungsgespräch bis zur Kündigung. In diesem Seminar bekommst du das nötige Wissen\, um im Arbeitsrecht sicher zu handeln und typische Fehler zu vermeiden. \nDu lernst\, welche Rechte und Pflichten du als Arbeitgeber*in oder Führungskraft hast\, wie du Verträge richtig gestaltest und in Konfliktsituationen souverän bleibst. \nDas erwartet dich: \n\nrechtssichere Gestaltung von Arbeitsverträgen und Bewerbungsprozessen\naktuelles Wissen zu Tarifverträgen und Arbeitszeiten\nUmgang mit Abmahnung\, Kündigung und Gütetermin\nTipps zu Arbeitszeugnissen und aktueller Rechtsprechung\n\nBesonders wichtig: Du kannst eigene Fälle oder Fragen aus deinem Betrieb einbringen und mit Expert*innen besprechen. So bekommst du nicht nur Theorie\, sondern Lösungen\, die du direkt anwenden kannst. \nNach dem Seminar weißt du\, worauf du achten musst\, um rechtssicher und fair zu handeln – und teure Fehler zu vermeiden. \nReferent: RA Henning Funke \n-> zur Buchungsanfrage
URL:https://biv-west.de/event/arbeitsrecht-aktuelles-wissen-fuer-rechtssichere-entscheidungen-2/
LOCATION:Bäckerinnungsverband WEST (Düsseldorf)\, Stromstraße 41\, Düsseldorf\, NRW\, 40221\, Germany
CATEGORIES:Recht - Das sind Ihre Rechte als Arbeitgeber,Standort Düsseldorf
ATTACH;FMTTYPE=image/jpeg:https://biv-west.de/wp-content/uploads/2023/12/Sem_2025_Arbeitsrecht.jpg
END:VEVENT
END:VCALENDAR