BEGIN:VCALENDAR
VERSION:2.0
PRODID:-//BIV - ECPv6.15.20//NONSGML v1.0//EN
CALSCALE:GREGORIAN
METHOD:PUBLISH
X-ORIGINAL-URL:https://biv-west.de
X-WR-CALDESC:Veranstaltungen für BIV
REFRESH-INTERVAL;VALUE=DURATION:PT1H
X-Robots-Tag:noindex
X-PUBLISHED-TTL:PT1H
BEGIN:VTIMEZONE
TZID:UTC
BEGIN:STANDARD
TZOFFSETFROM:+0000
TZOFFSETTO:+0000
TZNAME:UTC
DTSTART:20250101T000000
END:STANDARD
END:VTIMEZONE
BEGIN:VEVENT
DTSTART;TZID=UTC:20260826T091500
DTEND;TZID=UTC:20260826T160000
DTSTAMP:20260422T003102
CREATED:20231219T144745Z
LAST-MODIFIED:20260204T102950Z
UID:466-1787735700-1787760000@biv-west.de
SUMMARY:Workshop Mitarbeiterführung
DESCRIPTION:Basisworkshop mit dem Schwerpunkt „Kommunikation“\nInhalt: \n\nPrävention der Über- und Unterforderung\nArbeitsanweisungen gekonnt formulieren\nSicherer Umgang in Konfliktsituationen\nKommunikationsstrukturen im Unternehmen\nMitarbeiter an das Unternehmen binden\n\nIhre Vorteile: \n\nSicheres Auftreten in Mitarbeitergesprächen\nVerminderung von Kommunikationsproblemen\nHandlungsorientiertes Lernen mit dem Fokus auf die praktische Umsetzung im Alltag\n\nReferent: Christian Bertelsbeck \n-> zur Buchungsanfrage
URL:https://biv-west.de/event/mitarbeiterfuehrung/
LOCATION:Erste Deutsche Bäckerfachschule (Standort Olpe)\, Zur Bäckerschule 5\, Olpe / Biggesee\, NRW\, 57462\, Deutschland
CATEGORIES:Personal - Seminare zum Umgang mit der Belegschaft,Standort Olpe
ATTACH;FMTTYPE=image/jpeg:https://biv-west.de/wp-content/uploads/2023/12/Sem_2025_Mitarbeiterfuehrung.jpg
END:VEVENT
END:VCALENDAR