BEGIN:VCALENDAR
VERSION:2.0
PRODID:-//BIV - ECPv6.15.20//NONSGML v1.0//EN
CALSCALE:GREGORIAN
METHOD:PUBLISH
X-WR-CALNAME:BIV
X-ORIGINAL-URL:https://biv-west.de
X-WR-CALDESC:Veranstaltungen für BIV
REFRESH-INTERVAL;VALUE=DURATION:PT1H
X-Robots-Tag:noindex
X-PUBLISHED-TTL:PT1H
BEGIN:VTIMEZONE
TZID:Europe/Berlin
BEGIN:DAYLIGHT
TZOFFSETFROM:+0100
TZOFFSETTO:+0200
TZNAME:CEST
DTSTART:20250330T010000
END:DAYLIGHT
BEGIN:STANDARD
TZOFFSETFROM:+0200
TZOFFSETTO:+0100
TZNAME:CET
DTSTART:20251026T010000
END:STANDARD
BEGIN:DAYLIGHT
TZOFFSETFROM:+0100
TZOFFSETTO:+0200
TZNAME:CEST
DTSTART:20260329T010000
END:DAYLIGHT
BEGIN:STANDARD
TZOFFSETFROM:+0200
TZOFFSETTO:+0100
TZNAME:CET
DTSTART:20261025T010000
END:STANDARD
BEGIN:DAYLIGHT
TZOFFSETFROM:+0100
TZOFFSETTO:+0200
TZNAME:CEST
DTSTART:20270328T010000
END:DAYLIGHT
BEGIN:STANDARD
TZOFFSETFROM:+0200
TZOFFSETTO:+0100
TZNAME:CET
DTSTART:20271031T010000
END:STANDARD
END:VTIMEZONE
BEGIN:VEVENT
DTSTART;VALUE=DATE:20260526
DTEND;VALUE=DATE:20260530
DTSTAMP:20260423T105002
CREATED:20250107T083751Z
LAST-MODIFIED:20260204T101704Z
UID:5189-1779753600-1780099199@biv-west.de
SUMMARY:Plötzlich Filialleitung
DESCRIPTION:In nur 4 Tagen erlernen Sie Theorie und Praxis \nMeist „Plötzlich und unvermittelt“…\nwerden Mitarbeitende zu Filialleitenden. Um Sie zu unterstützen\, bekommen Sie bei uns die nötigen Informationen und Anregungen. \n1. Verkaufstheorie und -praxis\n2. Mitarbeiterführung\, -gespräche\, Teambildung\n3. Kennzahlen im Verkauf\n4. Backwarenprojekte und Aktionen planen\n5. Teamtreffen strukturieren und durchführen\n6. Werbemittel erstellen und einsetzen. \nAlles das\, wird Ihnen vermittelt\, um Ihnen Ihre neuen Aufgaben zu erleichtern. \nSelbstverständlich ist das Seminar auch für alle anderen Interessenten geeignet\, wie Verkäuferinnen und Verkäufer\, Quereinsteiger und Ungelernte die sich weiterbilden möchten. \n-> Zur Buchungsanfrage
URL:https://biv-west.de/event/ploetzlich-filialleitung/
LOCATION:Erste Deutsche Bäckerfachschule (Standort Olpe)\, Zur Bäckerschule 5\, Olpe / Biggesee\, NRW\, 57462\, Deutschland
CATEGORIES:Personal - Seminare zum Umgang mit der Belegschaft,Standort Olpe
ATTACH;FMTTYPE=image/png:https://biv-west.de/wp-content/uploads/2025/01/Aufmacher_Seminar_Verkaufsleiter.png
END:VEVENT
END:VCALENDAR