BEGIN:VCALENDAR
VERSION:2.0
PRODID:-//BIV - ECPv6.15.20//NONSGML v1.0//EN
CALSCALE:GREGORIAN
METHOD:PUBLISH
X-ORIGINAL-URL:https://biv-west.de
X-WR-CALDESC:Veranstaltungen für BIV
REFRESH-INTERVAL;VALUE=DURATION:PT1H
X-Robots-Tag:noindex
X-PUBLISHED-TTL:PT1H
BEGIN:VTIMEZONE
TZID:UTC
BEGIN:STANDARD
TZOFFSETFROM:+0000
TZOFFSETTO:+0000
TZNAME:UTC
DTSTART:20250101T000000
END:STANDARD
END:VTIMEZONE
BEGIN:VEVENT
DTSTART;VALUE=DATE:20260428
DTEND;VALUE=DATE:20260430
DTSTAMP:20260423T105420
CREATED:20240326T122315Z
LAST-MODIFIED:20260204T100739Z
UID:3936-1777334400-1777507199@biv-west.de
SUMMARY:Stollen-Workshop
DESCRIPTION:Der Kreativworkshop zum Premium-Handwerksstollen\nInhalt: \nDer Festtagsstollen ist ein Premiumprodukt der Vorweihnachtszeit und eines der umsatzstärksten Produkte zu dieser Zeit im Feinbackwarenbereich\, sehr emotional mit der Weihnachtszeit und mit vielen Kindheitsmomenten der Kunden verwurzelt. Die Variantenvielfalt unterstreicht dabei die Kompetenz der handwerklichen Herstellung. Zur Abrundung des Sortiments mit vielen innovativen und hochwertigen Rohstoffen. Interpretation von neuen Geschmackskompositionen. \nVon traditioneller Herstellung bis zur Verarbeitung von Vollkorn und Urgetreide. Saisonklassiker\naber auch sommerliche Varianten mit Früchten und leichten Aromen. \nReferenten: Wolfgang Vollmer\, Peter Kramer \n-> zur Buchungsanfrage
URL:https://biv-west.de/event/stollen-seminar/
LOCATION:Erste Deutsche Bäckerfachschule (Standort Olpe)\, Zur Bäckerschule 5\, Olpe / Biggesee\, NRW\, 57462\, Deutschland
CATEGORIES:Produktion - Seminare rund ums Backen,Standort Olpe
ATTACH;FMTTYPE=image/jpeg:https://biv-west.de/wp-content/uploads/2024/03/Sem_2025_Stollenseminar.jpg
END:VEVENT
END:VCALENDAR