BEGIN:VCALENDAR
VERSION:2.0
PRODID:-//BIV - ECPv6.15.20//NONSGML v1.0//EN
CALSCALE:GREGORIAN
METHOD:PUBLISH
X-WR-CALNAME:BIV
X-ORIGINAL-URL:https://biv-west.de
X-WR-CALDESC:Veranstaltungen für BIV
REFRESH-INTERVAL;VALUE=DURATION:PT1H
X-Robots-Tag:noindex
X-PUBLISHED-TTL:PT1H
BEGIN:VTIMEZONE
TZID:Europe/Berlin
BEGIN:DAYLIGHT
TZOFFSETFROM:+0100
TZOFFSETTO:+0200
TZNAME:CEST
DTSTART:20250330T010000
END:DAYLIGHT
BEGIN:STANDARD
TZOFFSETFROM:+0200
TZOFFSETTO:+0100
TZNAME:CET
DTSTART:20251026T010000
END:STANDARD
BEGIN:DAYLIGHT
TZOFFSETFROM:+0100
TZOFFSETTO:+0200
TZNAME:CEST
DTSTART:20260329T010000
END:DAYLIGHT
BEGIN:STANDARD
TZOFFSETFROM:+0200
TZOFFSETTO:+0100
TZNAME:CET
DTSTART:20261025T010000
END:STANDARD
BEGIN:DAYLIGHT
TZOFFSETFROM:+0100
TZOFFSETTO:+0200
TZNAME:CEST
DTSTART:20270328T010000
END:DAYLIGHT
BEGIN:STANDARD
TZOFFSETFROM:+0200
TZOFFSETTO:+0100
TZNAME:CET
DTSTART:20271031T010000
END:STANDARD
END:VTIMEZONE
BEGIN:VEVENT
DTSTART;TZID=Europe/Berlin:20260420T090000
DTEND;TZID=Europe/Berlin:20260420T160000
DTSTAMP:20260423T122356
CREATED:20250109T124712Z
LAST-MODIFIED:20260204T110305Z
UID:5305-1776675600-1776700800@biv-west.de
SUMMARY:Social Media - Inhalt ist alles
DESCRIPTION:Mit gutem Content Reichweite und Wirkung steigern \nEgal ob Instagram\, Facebook oder Linkedin – auf allen Kanälen zählt vor allem eines: starker Inhalt. Guter Content informiert\, unterhält und berührt – er wird geteilt\, kommentiert und steigert so direkt die Reichweite und Conversion Rate Ihres Unternehmens. \nIn diesem praxisorientierten Seminar lernst du\, wie du attraktiven Content entwickeln\, professionell aufbereiten und gezielt über digitale Kanäle verbreiten kannst. \nDas erwartet dich: \n\nÜberblick über die wichtigsten Social-Media-Plattformen\nContent-Analyse: Welche Inhalte funktionieren und warum?\nContent-Planung und -Erstellung\nFotografieren mit dem Smartphone & Tools zur Bildbearbeitung\nBildrechte\, Urheberrecht und Datenschutz\nAnalyse Ihres aktuellen Social-Media-Auftritts: Ihre Bäckerei im Netz\n\nReferentin: Susanne Kosche \n-> zur Buchungsanfrage
URL:https://biv-west.de/event/social-media-inhalt-ist-alles-3/
LOCATION:Bäckerinnungsverband WEST (Standort Bochum)\, Bergstraße 81\, Bochum\, NRW\, 44791
CATEGORIES:Foto I Social Media - Facebook, Instagram & Co.,Standort Bochum
ATTACH;FMTTYPE=image/jpeg:https://biv-west.de/wp-content/uploads/2025/01/Sem_2025_Social_Media.jpg
END:VEVENT
END:VCALENDAR